BEGIN:VCALENDAR
VERSION:2.0
PRODID:-//Territorial d&#039;Horta Guinardó de l&#039;ANC - ECPv5.4.0//NONSGML v1.0//EN
CALSCALE:GREGORIAN
METHOD:PUBLISH
X-WR-CALNAME:Territorial d&#039;Horta Guinardó de l&#039;ANC
X-ORIGINAL-URL:https://horta-guinardo.assemblea.cat
X-WR-CALDESC:Esdeveniments per Territorial d&#039;Horta Guinardó de l&#039;ANC
BEGIN:VTIMEZONE
TZID:Europe/Paris
BEGIN:DAYLIGHT
TZOFFSETFROM:+0100
TZOFFSETTO:+0200
TZNAME:CEST
DTSTART:20250330T010000
END:DAYLIGHT
BEGIN:STANDARD
TZOFFSETFROM:+0200
TZOFFSETTO:+0100
TZNAME:CET
DTSTART:20251026T010000
END:STANDARD
END:VTIMEZONE
BEGIN:VEVENT
DTSTART;TZID=Europe/Paris:20250903T183000
DTEND;TZID=Europe/Paris:20250903T200000
DTSTAMP:20260421T223507
CREATED:20250826T073915Z
LAST-MODIFIED:20250826T092942Z
UID:8817-1756924200-1756929600@horta-guinardo.assemblea.cat
SUMMARY:Venda samarretes al local
DESCRIPTION:
URL:https://horta-guinardo.assemblea.cat/activitats/venda-samarretes-al-local/2025-09-03/
LOCATION:Local Assemblea Horta Guinardó\, Carrer de la Torre dels Pardals\, Barcelona\, Barcelona\, 08041\, Espanya
CATEGORIES:Activitats
ATTACH;FMTTYPE=image/jpeg:https://horta-guinardo.assemblea.cat/wp-content/uploads/2025/08/venda-samaretes-local-2025-1.jpg
END:VEVENT
END:VCALENDAR